BEGIN:VCALENDAR
VERSION:2.0
PRODID:-//Fraternal Order Of Police W.L. Sparky O&#039;Cain Lodge #3 - ECPv6.15.20//NONSGML v1.0//EN
CALSCALE:GREGORIAN
METHOD:PUBLISH
X-WR-CALNAME:Fraternal Order Of Police W.L. Sparky O&#039;Cain Lodge #3
X-ORIGINAL-URL:https://gafoplodge3.com
X-WR-CALDESC:Events for Fraternal Order Of Police W.L. Sparky O&#039;Cain Lodge #3
REFRESH-INTERVAL;VALUE=DURATION:PT1H
X-Robots-Tag:noindex
X-PUBLISHED-TTL:PT1H
BEGIN:VTIMEZONE
TZID:America/New_York
BEGIN:DAYLIGHT
TZOFFSETFROM:-0500
TZOFFSETTO:-0400
TZNAME:EDT
DTSTART:20250309T070000
END:DAYLIGHT
BEGIN:STANDARD
TZOFFSETFROM:-0400
TZOFFSETTO:-0500
TZNAME:EST
DTSTART:20251102T060000
END:STANDARD
BEGIN:DAYLIGHT
TZOFFSETFROM:-0500
TZOFFSETTO:-0400
TZNAME:EDT
DTSTART:20260308T070000
END:DAYLIGHT
BEGIN:STANDARD
TZOFFSETFROM:-0400
TZOFFSETTO:-0500
TZNAME:EST
DTSTART:20261101T060000
END:STANDARD
BEGIN:DAYLIGHT
TZOFFSETFROM:-0500
TZOFFSETTO:-0400
TZNAME:EDT
DTSTART:20270314T070000
END:DAYLIGHT
BEGIN:STANDARD
TZOFFSETFROM:-0400
TZOFFSETTO:-0500
TZNAME:EST
DTSTART:20271107T060000
END:STANDARD
END:VTIMEZONE
BEGIN:VEVENT
DTSTART;TZID=America/New_York:20260928T000000
DTEND;TZID=America/New_York:20260928T235959
DTSTAMP:20260421T014406
CREATED:20251014T224855Z
LAST-MODIFIED:20251014T224855Z
UID:354-1790553600-1790639999@gafoplodge3.com
SUMMARY:Second Annual Golf Tournament
DESCRIPTION:
URL:https://gafoplodge3.com/event/second-annual-golf-tournament/
LOCATION:Brickyard Golf Club
END:VEVENT
END:VCALENDAR