BEGIN:VCALENDAR
VERSION:2.0
PRODID:-//Fraternal Order Of Police W.L. Sparky O&#039;Cain Lodge #3 - ECPv6.15.20//NONSGML v1.0//EN
CALSCALE:GREGORIAN
METHOD:PUBLISH
X-WR-CALNAME:Fraternal Order Of Police W.L. Sparky O&#039;Cain Lodge #3
X-ORIGINAL-URL:https://gafoplodge3.com
X-WR-CALDESC:Events for Fraternal Order Of Police W.L. Sparky O&#039;Cain Lodge #3
REFRESH-INTERVAL;VALUE=DURATION:PT1H
X-Robots-Tag:noindex
X-PUBLISHED-TTL:PT1H
BEGIN:VTIMEZONE
TZID:America/New_York
BEGIN:DAYLIGHT
TZOFFSETFROM:-0500
TZOFFSETTO:-0400
TZNAME:EDT
DTSTART:20240310T070000
END:DAYLIGHT
BEGIN:STANDARD
TZOFFSETFROM:-0400
TZOFFSETTO:-0500
TZNAME:EST
DTSTART:20241103T060000
END:STANDARD
BEGIN:DAYLIGHT
TZOFFSETFROM:-0500
TZOFFSETTO:-0400
TZNAME:EDT
DTSTART:20250309T070000
END:DAYLIGHT
BEGIN:STANDARD
TZOFFSETFROM:-0400
TZOFFSETTO:-0500
TZNAME:EST
DTSTART:20251102T060000
END:STANDARD
BEGIN:DAYLIGHT
TZOFFSETFROM:-0500
TZOFFSETTO:-0400
TZNAME:EDT
DTSTART:20260308T070000
END:DAYLIGHT
BEGIN:STANDARD
TZOFFSETFROM:-0400
TZOFFSETTO:-0500
TZNAME:EST
DTSTART:20261101T060000
END:STANDARD
BEGIN:DAYLIGHT
TZOFFSETFROM:-0500
TZOFFSETTO:-0400
TZNAME:EDT
DTSTART:20270314T070000
END:DAYLIGHT
BEGIN:STANDARD
TZOFFSETFROM:-0400
TZOFFSETTO:-0500
TZNAME:EST
DTSTART:20271107T060000
END:STANDARD
END:VTIMEZONE
BEGIN:VEVENT
DTSTART;TZID=America/New_York:20260427T180000
DTEND;TZID=America/New_York:20260427T200000
DTSTAMP:20260420T152608
CREATED:20251014T224713Z
LAST-MODIFIED:20251014T225439Z
UID:350-1777312800-1777320000@gafoplodge3.com
SUMMARY:Monthly Meeting
DESCRIPTION:
URL:https://gafoplodge3.com/event/monthly-meeting-6/
LOCATION:FOP Lodge #3\, 2465 Health Road\, Macon\, GA\, 31206
END:VEVENT
BEGIN:VEVENT
DTSTART;TZID=America/New_York:20260330T180000
DTEND;TZID=America/New_York:20260330T200000
DTSTAMP:20260420T152608
CREATED:20251014T224632Z
LAST-MODIFIED:20251014T225422Z
UID:348-1774893600-1774900800@gafoplodge3.com
SUMMARY:Monthly Meeting
DESCRIPTION:
URL:https://gafoplodge3.com/event/monthly-meeting-5/
LOCATION:FOP Lodge #3\, 2465 Health Road\, Macon\, GA\, 31206
END:VEVENT
BEGIN:VEVENT
DTSTART;TZID=America/New_York:20260223T180000
DTEND;TZID=America/New_York:20260223T200000
DTSTAMP:20260420T152608
CREATED:20251014T224537Z
LAST-MODIFIED:20251014T225402Z
UID:345-1771869600-1771876800@gafoplodge3.com
SUMMARY:Monthly Meeting
DESCRIPTION:
URL:https://gafoplodge3.com/event/monthly-meeting-4/
LOCATION:FOP Lodge #3\, 2465 Health Road\, Macon\, GA\, 31206
END:VEVENT
BEGIN:VEVENT
DTSTART;TZID=America/New_York:20260126T180000
DTEND;TZID=America/New_York:20260126T200000
DTSTAMP:20260420T152608
CREATED:20251014T224418Z
LAST-MODIFIED:20251014T225320Z
UID:343-1769450400-1769457600@gafoplodge3.com
SUMMARY:Monthly Meeting
DESCRIPTION:2026 Annual Dues are due
URL:https://gafoplodge3.com/event/monthly-meeting-3/
LOCATION:FOP Lodge #3\, 2465 Health Road\, Macon\, GA\, 31206
END:VEVENT
BEGIN:VEVENT
DTSTART;TZID=America/New_York:20251124T180000
DTEND;TZID=America/New_York:20251124T200000
DTSTAMP:20260420T152608
CREATED:20251014T224325Z
LAST-MODIFIED:20251014T225304Z
UID:340-1764007200-1764014400@gafoplodge3.com
SUMMARY:Monthly Meeting
DESCRIPTION:Agenda\n\nBoard of Elections
URL:https://gafoplodge3.com/event/monthly-meeting-2/
LOCATION:FOP Lodge #3\, 2465 Health Road\, Macon\, GA\, 31206
END:VEVENT
BEGIN:VEVENT
DTSTART;TZID=America/New_York:20251027T180000
DTEND;TZID=America/New_York:20251027T200000
DTSTAMP:20260420T152608
CREATED:20251014T224106Z
LAST-MODIFIED:20251014T225242Z
UID:337-1761588000-1761595200@gafoplodge3.com
SUMMARY:Monthly Meeting
DESCRIPTION:Agenda\n\nBoard Nominations
URL:https://gafoplodge3.com/event/monthly-meeting/
LOCATION:FOP Lodge #3\, 2465 Health Road\, Macon\, GA\, 31206
END:VEVENT
END:VCALENDAR